BEGIN:VCALENDAR
VERSION:2.0
PRODID:-//wp-events-plugin.com//7.2.3.1//EN
TZID:Europe/Berlin
X-WR-TIMEZONE:Europe/Berlin
BEGIN:VEVENT
UID:150@zwoenitzer-hsv.de
DTSTART;TZID=Europe/Berlin:20251022T190000
DTEND;TZID=Europe/Berlin:20251022T230000
DTSTAMP:20250822T091414Z
URL:https://www.zwoenitzer-hsv.de/termine/2-spieltag-1-erzgebirgsklasse-mi
 xed/
SUMMARY:2. Spieltag 1. Erzgebirgsklasse Mixed
DESCRIPTION:19:00 Uhr: SV Tanne Thalheim - Albernauer SV\n\n20:15 Uhr: SV T
 anne Thalheim - Zwönitzer HSV\n\n21:30 Uhr: Albernauer SV - Zwönitzer HS
 V
ATTACH;FMTTYPE=image/jpeg:https://www.zwoenitzer-hsv.de/wp-content/uploads
 /2024/02/IMG-20240209-WA0015-e1707667791482.jpg
CATEGORIES:Volleyball
LOCATION:Sporthalle Grundschule Thalheim\, Kantstraße 36\, Thalheim\, 0938
 0\, Deutschland
X-APPLE-STRUCTURED-LOCATION;VALUE=URI;X-ADDRESS=Kantstraße 36\, Thalheim\,
  09380\, Deutschland;X-APPLE-RADIUS=100;X-TITLE=Sporthalle Grundschule Tha
 lheim:geo:0,0
END:VEVENT
BEGIN:VTIMEZONE
TZID:Europe/Berlin
X-LIC-LOCATION:Europe/Berlin
BEGIN:DAYLIGHT
DTSTART:20250330T030000
TZOFFSETFROM:+0100
TZOFFSETTO:+0200
TZNAME:CEST
END:DAYLIGHT
END:VTIMEZONE
END:VCALENDAR