BEGIN:VCALENDAR
VERSION:2.0
PRODID:-//wp-events-plugin.com//7.2.3.1//EN
TZID:Europe/Berlin
X-WR-TIMEZONE:Europe/Berlin
BEGIN:VEVENT
UID:120@zwoenitzer-hsv.de
DTSTART;TZID=Europe/Berlin:20251128T190000
DTEND;TZID=Europe/Berlin:20251128T223000
DTSTAMP:20250822T084427Z
URL:https://www.zwoenitzer-hsv.de/termine/3-spieltag-1-erzgebirgsklasse-mi
 xed/
SUMMARY:4. Spieltag 1. Erzgebirgsklasse Mixed
DESCRIPTION:19:00 Uhr: Zwönitzer HSV - SG Breitenbrunn II\n\n20:15 Uhr: Zw
 önitzer HSV - SV Mittweidatal\n\n21:30 Uhr: SG Breitenbrunn II - SV Mittw
 eidata\n\n&nbsp\;\n\nEintritt Frei! Für das leibliche Wohl sorgt die Abte
 ilung Volleyball
ATTACH;FMTTYPE=image/jpeg:https://www.zwoenitzer-hsv.de/wp-content/uploads
 /2024/02/IMG-20240209-WA0015-e1707667791482.jpg
CATEGORIES:Volleyball
LOCATION:Turnhalle Grundschule "Johann Wolfgang von Goethe" Zwönitz\, Matt
 hes-Enderlein-Straße 1\, Zwönitz\, 08297\, Deutschland
X-APPLE-STRUCTURED-LOCATION;VALUE=URI;X-ADDRESS=Matthes-Enderlein-Straße 1
 \, Zwönitz\, 08297\, Deutschland;X-APPLE-RADIUS=100;X-TITLE=Turnhalle Gru
 ndschule \"Johann Wolfgang von Goethe\" Zwönitz:geo:0,0
END:VEVENT
BEGIN:VTIMEZONE
TZID:Europe/Berlin
X-LIC-LOCATION:Europe/Berlin
BEGIN:STANDARD
DTSTART:20251026T020000
TZOFFSETFROM:+0200
TZOFFSETTO:+0100
TZNAME:CET
END:STANDARD
END:VTIMEZONE
END:VCALENDAR