BEGIN:VCALENDAR
VERSION:2.0
PRODID:-//wp-events-plugin.com//7.2.3.1//EN
TZID:Europe/Berlin
X-WR-TIMEZONE:Europe/Berlin
BEGIN:VEVENT
UID:170@zwoenitzer-hsv.de
DTSTART;TZID=Europe/Berlin;VALUE=DATE:20251221
DTEND;TZID=Europe/Berlin;VALUE=DATE:20251222
DTSTAMP:20251203T105526Z
URL:https://www.zwoenitzer-hsv.de/termine/4-weihnachtsturnier-gemischte-ju
 gend-d/
SUMMARY:4. Weihnachtsturnier gemischte Jugend D
DESCRIPTION:Zum zweiten Mal ist unser Verein Gastgeber für das "Weihnachts
 turnier gemischte Jugend D" unter der Schirmherrschaft der Region Südwest
 sachsen.\n\nWir freuen uns auf spannende Spiele\, viele Zuschauer und gro
 ße Emotionen.\n\n&nbsp\;\n\n&nbsp\;
ATTACH;FMTTYPE=image/jpeg:https://www.zwoenitzer-hsv.de/wp-content/uploads
 /2025/03/logo_hsv.png
CATEGORIES:Handball
END:VEVENT
BEGIN:VTIMEZONE
TZID:Europe/Berlin
X-LIC-LOCATION:Europe/Berlin
BEGIN:STANDARD
DTSTART:20251026T020000
TZOFFSETFROM:+0200
TZOFFSETTO:+0100
TZNAME:CET
END:STANDARD
END:VTIMEZONE
END:VCALENDAR