BEGIN:VCALENDAR
VERSION:2.0
PRODID:-//wp-events-plugin.com//7.2.3.1//EN
TZID:Europe/Berlin
X-WR-TIMEZONE:Europe/Berlin
BEGIN:VEVENT
UID:152@zwoenitzer-hsv.de
DTSTART;TZID=Europe/Berlin:20260424T193000
DTEND;TZID=Europe/Berlin:20260424T233000
DTSTAMP:20250822T091956Z
URL:https://www.zwoenitzer-hsv.de/termine/8-spieltag-1-erzgebirgsklasse-mi
 xed/
SUMMARY:8. Spieltag 1. Erzgebirgsklasse Mixed
DESCRIPTION:19:30 Uhr: SV Mittweidatal - SG Breitenbrunn II\n\n20:45 Uhr: S
 V Mittweidatal - Zwönitzer HSV\n\n22:00 Uhr: SG Breitenbrunn II - Zwönit
 zer HSV
ATTACH;FMTTYPE=image/jpeg:https://www.zwoenitzer-hsv.de/wp-content/uploads
 /2024/02/IMG-20240209-WA0015-e1707667791482.jpg
CATEGORIES:Volleyball
LOCATION:Sporthalle Raschau\, Sportplatz 44\, Raschau-Markersbach\, Sachsen
 \, 08352\, Deutschland
X-APPLE-STRUCTURED-LOCATION;VALUE=URI;X-ADDRESS=Sportplatz 44\, Raschau-Mar
 kersbach\, Sachsen\, 08352\, Deutschland;X-APPLE-RADIUS=100;X-TITLE=Sporth
 alle Raschau:geo:0,0
END:VEVENT
BEGIN:VTIMEZONE
TZID:Europe/Berlin
X-LIC-LOCATION:Europe/Berlin
BEGIN:DAYLIGHT
DTSTART:20260329T030000
TZOFFSETFROM:+0100
TZOFFSETTO:+0200
TZNAME:CEST
END:DAYLIGHT
END:VTIMEZONE
END:VCALENDAR