BEGIN:VCALENDAR
VERSION:2.0
PRODID:-//wp-events-plugin.com//7.2.3.1//EN
TZID:Europe/Berlin
X-WR-TIMEZONE:Europe/Berlin
BEGIN:VEVENT
UID:163@zwoenitzer-hsv.de
DTSTART;TZID=Europe/Berlin:20251101T100000
DTEND;TZID=Europe/Berlin:20251102T180000
DTSTAMP:20251031T092105Z
URL:https://www.zwoenitzer-hsv.de/termine/auswaertsspiele-01-02-11-2025/
SUMMARY:Auswärtsspiele 01./02.11.2025
DESCRIPTION:Spielplan:\n\nAuswärtsspiele_0102112025_2\n\nAuswärtsspiele_0
 102112025
ATTACH;FMTTYPE=image/jpeg:https://www.zwoenitzer-hsv.de/wp-content/uploads
 /2025/03/logo_hsv.png
CATEGORIES:Handball
END:VEVENT
BEGIN:VTIMEZONE
TZID:Europe/Berlin
X-LIC-LOCATION:Europe/Berlin
BEGIN:STANDARD
DTSTART:20251026T020000
TZOFFSETFROM:+0200
TZOFFSETTO:+0100
TZNAME:CET
END:STANDARD
END:VTIMEZONE
END:VCALENDAR