BEGIN:VCALENDAR
VERSION:2.0
PRODID:-//wp-events-plugin.com//7.2.3.1//EN
TZID:Europe/Berlin
X-WR-TIMEZONE:Europe/Berlin
BEGIN:VEVENT
UID:175@zwoenitzer-hsv.de
DTSTART;TZID=Europe/Berlin;VALUE=DATE:20260117
DTEND;TZID=Europe/Berlin;VALUE=DATE:20260118
DTSTAMP:20260112T152319Z
URL:https://www.zwoenitzer-hsv.de/termine/heimspieltag-17-01-2026/
SUMMARY:Heimspieltag 17.01.2026
DESCRIPTION:Kommt vorbei und unterstützt unsere Mannschaften.\n\n&nbsp\;\n
 \nAnzeige_Heimspieltag_17012026
ATTACH;FMTTYPE=image/jpeg:https://www.zwoenitzer-hsv.de/wp-content/uploads
 /2025/03/logo_hsv.png
CATEGORIES:Handball
LOCATION:Sporthalle Niederzwönitz\, Turnhallenweg 5\, Zwönitz\, 08297\, D
 eutschland
X-APPLE-STRUCTURED-LOCATION;VALUE=URI;X-ADDRESS=Turnhallenweg 5\, Zwönitz\
 , 08297\, Deutschland;X-APPLE-RADIUS=100;X-TITLE=Sporthalle Niederzwönitz
 :geo:0,0
END:VEVENT
BEGIN:VTIMEZONE
TZID:Europe/Berlin
X-LIC-LOCATION:Europe/Berlin
BEGIN:STANDARD
DTSTART:20251026T020000
TZOFFSETFROM:+0200
TZOFFSETTO:+0100
TZNAME:CET
END:STANDARD
END:VTIMEZONE
END:VCALENDAR