BEGIN:VCALENDAR
VERSION:2.0
PRODID:-//wp-events-plugin.com//7.2.3.1//EN
TZID:Europe/Berlin
X-WR-TIMEZONE:Europe/Berlin
BEGIN:VEVENT
UID:155@zwoenitzer-hsv.de
DTSTART;TZID=Europe/Berlin:20250913T100000
DTEND;TZID=Europe/Berlin:20250914T183000
DTSTAMP:20250907T101105Z
URL:https://www.zwoenitzer-hsv.de/termine/heimspielwochenende-13-09-14-09-
 2025/
SUMMARY:Heimspielwochenende 13.09./14.09.2025
DESCRIPTION:Kommt vorbei und unterstützt unsere Mannschaften zum Saisonauf
 takt Zuhause.\n\nFür Verpflegung ist wie immer bestens gesorgt.\n\nSpielp
 lan:\n\nHeimspielWE_13_14_09_2025
ATTACH;FMTTYPE=image/jpeg:https://www.zwoenitzer-hsv.de/wp-content/uploads
 /2025/03/logo_hsv.png
CATEGORIES:Handball
LOCATION:Sporthalle Niederzwönitz\, Turnhallenweg 5\, Zwönitz\, 08297\, D
 eutschland
X-APPLE-STRUCTURED-LOCATION;VALUE=URI;X-ADDRESS=Turnhallenweg 5\, Zwönitz\
 , 08297\, Deutschland;X-APPLE-RADIUS=100;X-TITLE=Sporthalle Niederzwönitz
 :geo:0,0
END:VEVENT
BEGIN:VTIMEZONE
TZID:Europe/Berlin
X-LIC-LOCATION:Europe/Berlin
BEGIN:DAYLIGHT
DTSTART:20250330T030000
TZOFFSETFROM:+0100
TZOFFSETTO:+0200
TZNAME:CEST
END:DAYLIGHT
END:VTIMEZONE
END:VCALENDAR