BEGIN:VCALENDAR
VERSION:2.0
PRODID:-//wp-events-plugin.com//7.2.3.1//EN
TZID:Europe/Berlin
X-WR-TIMEZONE:Europe/Berlin
BEGIN:VEVENT
UID:162@zwoenitzer-hsv.de
DTSTART;TZID=Europe/Berlin:20251025T000000
DTEND;TZID=Europe/Berlin:20251026T235900
DTSTAMP:20251022T114506Z
URL:https://www.zwoenitzer-hsv.de/termine/heimspielwochenende-25-10-26-10-
 2025/
SUMMARY:Heimspielwochenende 25.10./26.10.2025
DESCRIPTION:Kommt vorbei und unterstützt unsere Mannschaften Zuhause.\n\nD
 er Kracher wird das Derby unserer 1. Männermannschaft gegen den EHV Aue I
 I.\n\nFür Verpflegung ist wie immer bestens gesorgt.\n\nSpielplan:\n\nHei
 mspielwochenende_252610
ATTACH;FMTTYPE=image/jpeg:https://www.zwoenitzer-hsv.de/wp-content/uploads
 /2025/03/logo_hsv.png
CATEGORIES:Handball
LOCATION:Sporthalle Niederzwönitz\, Turnhallenweg 5\, Zwönitz\, 08297\, D
 eutschland
X-APPLE-STRUCTURED-LOCATION;VALUE=URI;X-ADDRESS=Turnhallenweg 5\, Zwönitz\
 , 08297\, Deutschland;X-APPLE-RADIUS=100;X-TITLE=Sporthalle Niederzwönitz
 :geo:0,0
END:VEVENT
BEGIN:VTIMEZONE
TZID:Europe/Berlin
X-LIC-LOCATION:Europe/Berlin
BEGIN:DAYLIGHT
DTSTART:20250330T030000
TZOFFSETFROM:+0100
TZOFFSETTO:+0200
TZNAME:CEST
END:DAYLIGHT
BEGIN:STANDARD
DTSTART:20251026T020000
TZOFFSETFROM:+0200
TZOFFSETTO:+0100
TZNAME:CET
END:STANDARD
END:VTIMEZONE
END:VCALENDAR