BEGIN:VCALENDAR
VERSION:2.0
PRODID:-//wp-events-plugin.com//7.2.3.1//EN
TZID:Europe/Berlin
X-WR-TIMEZONE:Europe/Berlin
BEGIN:VEVENT
UID:4@zwoenitzer-hsv.de
DTSTART;TZID=Europe/Berlin:20230902T100000
DTEND;TZID=Europe/Berlin:20230902T100000
DTSTAMP:20231026T140949Z
URL:https://www.zwoenitzer-hsv.de/termine/hsv-vereinsfest/
SUMMARY:HSV Vereins- und Familienfest
DESCRIPTION:
ATTACH;FMTTYPE=image/jpeg:https://www.zwoenitzer-hsv.de/wp-content/uploads
 /2017/11/Bild51.jpg
CATEGORIES:Allgemein
END:VEVENT
BEGIN:VTIMEZONE
TZID:Europe/Berlin
X-LIC-LOCATION:Europe/Berlin
BEGIN:DAYLIGHT
DTSTART:20230326T030000
TZOFFSETFROM:+0100
TZOFFSETTO:+0200
TZNAME:CEST
END:DAYLIGHT
END:VTIMEZONE
END:VCALENDAR