BEGIN:VCALENDAR
VERSION:2.0
PRODID:-//wp-events-plugin.com//7.2.3.1//EN
TZID:Europe/Berlin
X-WR-TIMEZONE:Europe/Berlin
BEGIN:VEVENT
UID:48@zwoenitzer-hsv.de
DTSTART;TZID=Europe/Berlin:20241115T190000
DTEND;TZID=Europe/Berlin:20241115T223000
DTSTAMP:20241028T152153Z
URL:https://www.zwoenitzer-hsv.de/termine/jahreshauptversammlung-2024/
SUMMARY:Jahreshauptversammlung 2024
DESCRIPTION:Sehr geehrtes HSV-Vereinsmitglied\, sehr geehrte Eltern\,\n\nhi
 ermit geben wir den Termin für unsere Mitgliederversammlung für das Jahr
  2024 bekannt.\nDie Mitgliederversammlung des Zwönitzer HSV 1928 e.V. fin
 det am 15.11.2024 ab 19:00 Uhr statt.\n\nWir weisen darauf hin\, dass jede
 s Mitglied bis sechs Wochen vor dem Termin der Mitgliederversammlung berec
 htigt ist\, schriftliche Anträge zur Tagesordnung mit Begründung beim Vo
 rstand einzureichen. Eine offizielle Einladung und die Tagesordnung werden
  satzungsgemäß und fristgerecht noch bekannt gegeben. Sollten Sie diese 
 E-Mail mehr als einmal erhalten\, dann liegt dies daran\, dass Sie Ihre E-
 Mailadresse mehrfach bei uns z.B. für Ihre Kinder angegeben haben.\n\nMit
  freundlichen Grüßen\n\nIm Auftrag des Vorstands\nStephan Wappler\nMitgl
 iederwart Zwönitzer HSV 1928 e.V.\nQuerstraße 5\n08297 Zwönitz
ATTACH;FMTTYPE=image/jpeg:https://www.zwoenitzer-hsv.de/wp-content/uploads
 /2023/09/cropped-logo_hsv.png
CATEGORIES:Allgemein,Handball,Leichtathletik,Taekwondo,Verein,Volleyball
LOCATION:Sporthalle Niederzwönitz\, Turnhallenweg 5\, Zwönitz\, 08297\, D
 eutschland
X-APPLE-STRUCTURED-LOCATION;VALUE=URI;X-ADDRESS=Turnhallenweg 5\, Zwönitz\
 , 08297\, Deutschland;X-APPLE-RADIUS=100;X-TITLE=Sporthalle Niederzwönitz
 :geo:0,0
END:VEVENT
BEGIN:VTIMEZONE
TZID:Europe/Berlin
X-LIC-LOCATION:Europe/Berlin
BEGIN:STANDARD
DTSTART:20241027T020000
TZOFFSETFROM:+0200
TZOFFSETTO:+0100
TZNAME:CET
END:STANDARD
END:VTIMEZONE
END:VCALENDAR