BEGIN:VCALENDAR
VERSION:2.0
PRODID:-//wp-events-plugin.com//7.2.3.1//EN
TZID:Europe/Berlin
X-WR-TIMEZONE:Europe/Berlin
BEGIN:VEVENT
UID:38@zwoenitzer-hsv.de
DTSTART;TZID=Europe/Berlin;VALUE=DATE:20240217
DTEND;TZID=Europe/Berlin;VALUE=DATE:20240219
DTSTAMP:20240220T084739Z
URL:https://www.zwoenitzer-hsv.de/termine/kampfrichterlehrgang-technik-und
 -vollkontakt/
SUMMARY:Kampfrichterlehrgang Technik und Vollkontakt
DESCRIPTION:Der Zwönitzer HSV 1928 e.V.\, Abt. Taekwondo war am 17.2.24 un
 d am 18.2.24 Gastgeber der ersten Kampfrichterlehrgänge der Taekwondo Uni
 on Sachsen in diesem Jahr.
ATTACH;FMTTYPE=image/jpeg:https://www.zwoenitzer-hsv.de/wp-content/uploads
 /2024/02/Zwoenitzer-Teilnehmer-Sonntag.jpg
CATEGORIES:Taekwondo
END:VEVENT
BEGIN:VTIMEZONE
TZID:Europe/Berlin
X-LIC-LOCATION:Europe/Berlin
BEGIN:STANDARD
DTSTART:20231029T020000
TZOFFSETFROM:+0200
TZOFFSETTO:+0100
TZNAME:CET
END:STANDARD
END:VTIMEZONE
END:VCALENDAR