BEGIN:VCALENDAR
VERSION:2.0
PRODID:-//wp-events-plugin.com//7.2.3.1//EN
TZID:Europe/Berlin
X-WR-TIMEZONE:Europe/Berlin
BEGIN:VEVENT
UID:107@zwoenitzer-hsv.de
DTSTART;TZID=Europe/Berlin:20250412T100000
DTEND;TZID=Europe/Berlin:20250412T160000
DTSTAMP:20250411T080410Z
URL:https://www.zwoenitzer-hsv.de/termine/letzer-heimspieltag-saison-2024-
 2025/
SUMMARY:letzter Heimspieltag Saison 2024/2025
DESCRIPTION:&nbsp\;\n\n\n\n10:00\nRegionsoberliga (Männlich Jugend C)\nZw
 önitzer HSV\nvs.\nMotor Rochlitz\n\n\n12:00\nRegionsoberliga (Gemischte J
 ugend D)\nZwönitzer HSV\nvs.\nSG HSC Chemnitz\n\n\n14:00\nRegionsliga (Fr
 auen)\nZwönitzer HSV II\nvs.\nSG HSC Chemnitz\n\n\n\nLasst uns gemeinsam 
 die Halle zum Beben bringen! \n\nKommt vorbei\, feuert unsere Mannschaften
  an und lasst uns diesen letzten Heimspieltag unvergesslich machen! \n\nGe
 meinsam sind wir stark!\n\n&nbsp\;
ATTACH;FMTTYPE=image/jpeg:https://www.zwoenitzer-hsv.de/wp-content/uploads
 /2025/03/logo_hsv.png
CATEGORIES:Handball
LOCATION:Sporthalle Niederzwönitz\, Turnhallenweg 5\, Zwönitz\, 08297\, D
 eutschland
X-APPLE-STRUCTURED-LOCATION;VALUE=URI;X-ADDRESS=Turnhallenweg 5\, Zwönitz\
 , 08297\, Deutschland;X-APPLE-RADIUS=100;X-TITLE=Sporthalle Niederzwönitz
 :geo:0,0
END:VEVENT
BEGIN:VTIMEZONE
TZID:Europe/Berlin
X-LIC-LOCATION:Europe/Berlin
BEGIN:DAYLIGHT
DTSTART:20250330T030000
TZOFFSETFROM:+0100
TZOFFSETTO:+0200
TZNAME:CEST
END:DAYLIGHT
END:VTIMEZONE
END:VCALENDAR