BEGIN:VCALENDAR
VERSION:2.0
PRODID:-//wp-events-plugin.com//7.2.3.1//EN
TZID:Europe/Berlin
X-WR-TIMEZONE:Europe/Berlin
BEGIN:VEVENT
UID:240@zwoenitzer-hsv.de
DTSTART;TZID=Europe/Berlin;VALUE=DATE:20260425
DTEND;TZID=Europe/Berlin;VALUE=DATE:20260427
DTSTAMP:20260423T183641Z
URL:https://www.zwoenitzer-hsv.de/termine/letztes-heimspielwochenende-25-0
 4-26-04-2026/
SUMMARY:letztes Heimspielwochenende 25.04./26.04.2026
DESCRIPTION:Feuert unsere Mannschaften zum letzten Heimspielwochenende noch
  einmal kräftig an. Wir freuen uns auf Euren Support.\n\nSpielplan:\n\nSp
 ieltag_250426042026
ATTACH;FMTTYPE=image/jpeg:https://www.zwoenitzer-hsv.de/wp-content/uploads
 /2025/03/logo_hsv.png
CATEGORIES:Handball
LOCATION:Sporthalle Niederzwönitz\, Turnhallenweg 5\, Zwönitz\, 08297\, D
 eutschland
X-APPLE-STRUCTURED-LOCATION;VALUE=URI;X-ADDRESS=Turnhallenweg 5\, Zwönitz\
 , 08297\, Deutschland;X-APPLE-RADIUS=100;X-TITLE=Sporthalle Niederzwönitz
 :geo:0,0
END:VEVENT
BEGIN:VTIMEZONE
TZID:Europe/Berlin
X-LIC-LOCATION:Europe/Berlin
BEGIN:DAYLIGHT
DTSTART:20260329T030000
TZOFFSETFROM:+0100
TZOFFSETTO:+0200
TZNAME:CEST
END:DAYLIGHT
END:VTIMEZONE
END:VCALENDAR