BEGIN:VCALENDAR
VERSION:2.0
PRODID:-//wp-events-plugin.com//7.2.3.1//EN
TZID:Europe/Berlin
X-WR-TIMEZONE:Europe/Berlin
BEGIN:VEVENT
UID:2@zwoenitzer-hsv.de
DTSTART;TZID=Europe/Berlin:20231103T190000
DTEND;TZID=Europe/Berlin:20231103T190000
DTSTAMP:20231004T095645Z
URL:https://www.zwoenitzer-hsv.de/termine/mitgliederversammlung-2023/
SUMMARY:Mitgliederversammlung 2023
DESCRIPTION:Am 03.11.2023 findet die diesjährige Mitgliederversammlung sta
 tt.\nDie Einladung und Tagesordnung erhalten alle Mitglieder satzungsgemä
 ß im Vorfeld der Veranstaltung.
ATTACH;FMTTYPE=image/jpeg:https://www.zwoenitzer-hsv.de/wp-content/uploads
 /2023/09/logo_hsv.png
CATEGORIES:Allgemein
END:VEVENT
BEGIN:VTIMEZONE
TZID:Europe/Berlin
X-LIC-LOCATION:Europe/Berlin
BEGIN:STANDARD
DTSTART:20231029T020000
TZOFFSETFROM:+0200
TZOFFSETTO:+0100
TZNAME:CET
END:STANDARD
END:VTIMEZONE
END:VCALENDAR