BEGIN:VCALENDAR
VERSION:2.0
PRODID:-//wp-events-plugin.com//7.2.3.1//EN
TZID:Europe/Berlin
X-WR-TIMEZONE:Europe/Berlin
BEGIN:VEVENT
UID:16@zwoenitzer-hsv.de
DTSTART;TZID=Europe/Berlin;VALUE=DATE:20240210
DTEND;TZID=Europe/Berlin;VALUE=DATE:20240211
DTSTAMP:20240102T135904Z
URL:https://www.zwoenitzer-hsv.de/termine/nickelhuette-aue-turnier/
SUMMARY:Nickelhütte Aue Turnier
DESCRIPTION:
ATTACH;FMTTYPE=image/jpeg:https://www.zwoenitzer-hsv.de/wp-content/uploads
 /2023/10/pikto_taekwondo.png
CATEGORIES:Taekwondo,Vollkontakt
END:VEVENT
BEGIN:VTIMEZONE
TZID:Europe/Berlin
X-LIC-LOCATION:Europe/Berlin
BEGIN:STANDARD
DTSTART:20231029T020000
TZOFFSETFROM:+0200
TZOFFSETTO:+0100
TZNAME:CET
END:STANDARD
END:VTIMEZONE
END:VCALENDAR