BEGIN:VCALENDAR
VERSION:2.0
PRODID:-//wp-events-plugin.com//7.2.3.1//EN
TZID:Europe/Berlin
X-WR-TIMEZONE:Europe/Berlin
BEGIN:VEVENT
UID:111@zwoenitzer-hsv.de
DTSTART;TZID=Europe/Berlin:20250501T100000
DTEND;TZID=Europe/Berlin:20250501T170000
DTSTAMP:20250421T143811Z
URL:https://www.zwoenitzer-hsv.de/termine/pokalfinale/
SUMMARY:Pokalfinale
DESCRIPTION:Am 01.05.2025 sind wir Gastgeber folgender Pokalfinale:\n\n\n\n
 \n\n\n\n10:00\nwJC\nPlauen-Oberlosa\nvs.\nHSV 1956 Marienberg\n\n\n12:00\n
 RP Frauen\nHSG Sachsenring\nvs.\nHV Grüna\n\n\n14:30\nRK-Pokal Männer\nS
 V Beierfeld\nvs.\nZwönitzer HSV\n\n\n17:00\nRP Männer\nHC Pleißental\nv
 s.\nBurgstädter HC\n\n\n\n\n\n\n\n
ATTACH;FMTTYPE=image/jpeg:https://www.zwoenitzer-hsv.de/wp-content/uploads
 /2025/03/logo_hsv.png
CATEGORIES:Handball
LOCATION:Sporthalle Niederzwönitz\, Turnhallenweg 5\, Zwönitz\, 08297\, D
 eutschland
X-APPLE-STRUCTURED-LOCATION;VALUE=URI;X-ADDRESS=Turnhallenweg 5\, Zwönitz\
 , 08297\, Deutschland;X-APPLE-RADIUS=100;X-TITLE=Sporthalle Niederzwönitz
 :geo:0,0
END:VEVENT
BEGIN:VTIMEZONE
TZID:Europe/Berlin
X-LIC-LOCATION:Europe/Berlin
BEGIN:DAYLIGHT
DTSTART:20250330T030000
TZOFFSETFROM:+0100
TZOFFSETTO:+0200
TZNAME:CEST
END:DAYLIGHT
END:VTIMEZONE
END:VCALENDAR