BEGIN:VCALENDAR
VERSION:2.0
PRODID:-//wp-events-plugin.com//7.2.3.1//EN
TZID:Europe/Berlin
X-WR-TIMEZONE:Europe/Berlin
BEGIN:VEVENT
UID:172@zwoenitzer-hsv.de
DTSTART;TZID=Europe/Berlin:20251213T000000
DTEND;TZID=Europe/Berlin:20251213T000000
DTSTAMP:20251203T110554Z
URL:https://www.zwoenitzer-hsv.de/termine/pokalspiel-frauen-13-12-2025/
SUMMARY:Pokalspiel Frauen 13.12.2025
DESCRIPTION:Kommt alle in die Halle und unterstützt unsere Frauen\n\nPokal
 spiel_13122025
ATTACH;FMTTYPE=image/jpeg:https://www.zwoenitzer-hsv.de/wp-content/uploads
 /2025/03/logo_hsv.png
CATEGORIES:Handball
END:VEVENT
BEGIN:VTIMEZONE
TZID:Europe/Berlin
X-LIC-LOCATION:Europe/Berlin
BEGIN:STANDARD
DTSTART:20251026T020000
TZOFFSETFROM:+0200
TZOFFSETTO:+0100
TZNAME:CET
END:STANDARD
END:VTIMEZONE
END:VCALENDAR