BEGIN:VCALENDAR
VERSION:2.0
PRODID:-//wp-events-plugin.com//7.2.3.1//EN
TZID:Europe/Berlin
X-WR-TIMEZONE:Europe/Berlin
BEGIN:VEVENT
UID:167@zwoenitzer-hsv.de
DTSTART;TZID=Europe/Berlin:20260113T190000
DTEND;TZID=Europe/Berlin:20260113T220000
DTSTAMP:20251120T102440Z
URL:https://www.zwoenitzer-hsv.de/termine/regionalpokal-achtelfinale-damen
 /
SUMMARY:Regionalpokal Achtelfinale Damen
DESCRIPTION:19:00 Uhr: SV Tanne Thalheim - Zwönitzer HSV
ATTACH;FMTTYPE=image/jpeg:https://www.zwoenitzer-hsv.de/wp-content/uploads
 /2025/03/IMG_20250228_225537919-1-scaled.jpg
CATEGORIES:Volleyball
LOCATION:Sportlerheim Thalheim\, Stollberger Str. 43\, Thalheim\, 09380\, D
 eutschland
X-APPLE-STRUCTURED-LOCATION;VALUE=URI;X-ADDRESS=Stollberger Str. 43\, Thalh
 eim\, 09380\, Deutschland;X-APPLE-RADIUS=100;X-TITLE=Sportlerheim Thalheim
 :geo:0,0
END:VEVENT
BEGIN:VTIMEZONE
TZID:Europe/Berlin
X-LIC-LOCATION:Europe/Berlin
BEGIN:STANDARD
DTSTART:20251026T020000
TZOFFSETFROM:+0200
TZOFFSETTO:+0100
TZNAME:CET
END:STANDARD
END:VTIMEZONE
END:VCALENDAR