BEGIN:VCALENDAR
VERSION:2.0
PRODID:-//wp-events-plugin.com//7.2.3.1//EN
TZID:Europe/Berlin
X-WR-TIMEZONE:Europe/Berlin
BEGIN:VEVENT
UID:125@zwoenitzer-hsv.de
DTSTART;TZID=Europe/Berlin;VALUE=DATE:20251018
DTEND;TZID=Europe/Berlin;VALUE=DATE:20251019
DTSTAMP:20250817T171500Z
URL:https://www.zwoenitzer-hsv.de/termine/sachsenmeisterschaft-formenlauf/
SUMMARY:Sachsenmeisterschaft Formenlauf
DESCRIPTION:Alle Sportler\n\nin Annaberg
ATTACH;FMTTYPE=image/jpeg:https://www.zwoenitzer-hsv.de/wp-content/uploads
 /2023/04/standard.jpg
CATEGORIES:Formenlauf,Taekwondo
END:VEVENT
BEGIN:VTIMEZONE
TZID:Europe/Berlin
X-LIC-LOCATION:Europe/Berlin
BEGIN:DAYLIGHT
DTSTART:20250330T030000
TZOFFSETFROM:+0100
TZOFFSETTO:+0200
TZNAME:CEST
END:DAYLIGHT
END:VTIMEZONE
END:VCALENDAR