BEGIN:VCALENDAR
VERSION:2.0
PRODID:-//wp-events-plugin.com//7.2.3.1//EN
TZID:Europe/Berlin
X-WR-TIMEZONE:Europe/Berlin
BEGIN:VEVENT
UID:116@zwoenitzer-hsv.de
DTSTART;TZID=Europe/Berlin:20250816T120000
DTEND;TZID=Europe/Berlin:20250816T180000
DTSTAMP:20250805T092027Z
URL:https://www.zwoenitzer-hsv.de/termine/sparkassencup-2025-maennerturnie
 r/
SUMMARY:Sparkassencup 2025 - Männerturnier
DESCRIPTION:Wir laden Euch recht herzlich ein zum 13. Sparkassencup 2025 um
  den Pokal der Stadt Zwönitz.\n\nErlebt spannende Spiele und eine tolle S
 timmung in der Halle.\n\nFür das leibliche Wohl sorgt natürlich in bewä
 hrter Weise unser Imbiss.\n\n\n\n\n\n\n\n12.00 Uhr\nZwönitzer HSV 1928 e.
 V.  Männer 1\nvs.\nHSG Freiberg e.V.\n\n\n13.00 Uhr\nSSV Stahl Rietschen
  e.V.\nvs.\nHC Glauchau/Meerane e.V.\n\n\n14.00 Uhr\nHSG Freiberg e.V.\nvs
 .\nSSV Stahl Rietschen e.V.\n\n\n15.00 Uhr\nZwönitzer HSV 1928 e.V.  Mä
 nner 1\nvs.\nHC Glauchau/Meerane e.V.\n\n\n16.00 Uhr\nHC Glauchau/Meerane 
 e.V.\nvs.\nHSG Freiberg e.V.\n\n\n17.00 Uhr\nSSV Stahl Rietschen e.V.\nvs.
 \nZwönitzer HSV 1928 e.V.  Männer 1\n\n\n\n\n\n\n\n
ATTACH;FMTTYPE=image/jpeg:https://www.zwoenitzer-hsv.de/wp-content/uploads
 /2025/07/Bild.jpg
CATEGORIES:Handball
LOCATION:Sporthalle Niederzwönitz\, Turnhallenweg 5\, Zwönitz\, 08297\, D
 eutschland
X-APPLE-STRUCTURED-LOCATION;VALUE=URI;X-ADDRESS=Turnhallenweg 5\, Zwönitz\
 , 08297\, Deutschland;X-APPLE-RADIUS=100;X-TITLE=Sporthalle Niederzwönitz
 :geo:0,0
END:VEVENT
BEGIN:VTIMEZONE
TZID:Europe/Berlin
X-LIC-LOCATION:Europe/Berlin
BEGIN:DAYLIGHT
DTSTART:20250330T030000
TZOFFSETFROM:+0100
TZOFFSETTO:+0200
TZNAME:CEST
END:DAYLIGHT
END:VTIMEZONE
END:VCALENDAR