BEGIN:VCALENDAR
VERSION:2.0
PRODID:-//wp-events-plugin.com//7.2.3.1//EN
TZID:Europe/Berlin
X-WR-TIMEZONE:Europe/Berlin
BEGIN:VEVENT
UID:3@zwoenitzer-hsv.de
DTSTART;TZID=Europe/Berlin;VALUE=DATE:20231021
DTEND;TZID=Europe/Berlin;VALUE=DATE:20231022
DTSTAMP:20231004T131502Z
URL:https://www.zwoenitzer-hsv.de/termine/thueringer-loewenpokal-2023/
SUMMARY:Thüringer Löwenpokal 2023
DESCRIPTION:in der Werratalhalle Hildburghausen\nmit elektr. Westensystem i
 ncl. Headgear von Daedo und Videoreplay
ATTACH;FMTTYPE=image/jpeg:https://www.zwoenitzer-hsv.de/wp-content/uploads
 /2023/09/IMG_5218.jpeg
CATEGORIES:Taekwondo
END:VEVENT
BEGIN:VTIMEZONE
TZID:Europe/Berlin
X-LIC-LOCATION:Europe/Berlin
BEGIN:DAYLIGHT
DTSTART:20230326T030000
TZOFFSETFROM:+0100
TZOFFSETTO:+0200
TZNAME:CEST
END:DAYLIGHT
END:VTIMEZONE
END:VCALENDAR