BEGIN:VCALENDAR
VERSION:2.0
PRODID:-//wp-events-plugin.com//7.2.3.1//EN
TZID:Europe/Berlin
X-WR-TIMEZONE:Europe/Berlin
BEGIN:VEVENT
UID:49@zwoenitzer-hsv.de
DTSTART;TZID=Europe/Berlin:20240909T193000
DTEND;TZID=Europe/Berlin:20240909T223000
DTSTAMP:20240820T112251Z
URL:https://www.zwoenitzer-hsv.de/termine/vereinsratsitzung-3/
SUMMARY:Vereinsratsitzung
DESCRIPTION:
ATTACH;FMTTYPE=image/jpeg:https://www.zwoenitzer-hsv.de/wp-content/uploads
 /2023/09/cropped-logo_hsv.png
CATEGORIES:Allgemein,Handball,Leichtathletik,Taekwondo,Verein,Volleyball
LOCATION:https://www.hotel-stadt-zwoenitz.de/
END:VEVENT
BEGIN:VTIMEZONE
TZID:Europe/Berlin
X-LIC-LOCATION:Europe/Berlin
BEGIN:DAYLIGHT
DTSTART:20240331T030000
TZOFFSETFROM:+0100
TZOFFSETTO:+0200
TZNAME:CEST
END:DAYLIGHT
END:VTIMEZONE
END:VCALENDAR