BEGIN:VCALENDAR
VERSION:2.0
PRODID:-//wp-events-plugin.com//7.2.3.1//EN
TZID:Europe/Berlin
X-WR-TIMEZONE:Europe/Berlin
BEGIN:VEVENT
UID:153@zwoenitzer-hsv.de
DTSTART;TZID=Europe/Berlin:20251212T183000
DTEND;TZID=Europe/Berlin:20251212T233000
DTSTAMP:20250822T092251Z
URL:https://www.zwoenitzer-hsv.de/termine/volleyball-weihnachtsfeier-der-a
 bteilung/
SUMMARY:Volleyball: Weihnachtsfeier der Abteilung
DESCRIPTION:Treff zur Glühweinwanderung ab Markt 17:30 Uhr
ATTACH;FMTTYPE=image/jpeg:https://www.zwoenitzer-hsv.de/wp-content/uploads
 /2023/10/candles-7529351_1280.jpg
CATEGORIES:Volleyball
LOCATION:Grüner Garten Zwönitz\,  Thomas-Müntzer-Straße 13\, Zwönitz\,
  Deutschland
X-APPLE-STRUCTURED-LOCATION;VALUE=URI;X-ADDRESS= Thomas-Müntzer-Straße 13
 \, Zwönitz\, Deutschland;X-APPLE-RADIUS=100;X-TITLE=Grüner Garten Zwöni
 tz:geo:0,0
END:VEVENT
BEGIN:VTIMEZONE
TZID:Europe/Berlin
X-LIC-LOCATION:Europe/Berlin
BEGIN:STANDARD
DTSTART:20251026T020000
TZOFFSETFROM:+0200
TZOFFSETTO:+0100
TZNAME:CET
END:STANDARD
END:VTIMEZONE
END:VCALENDAR