BEGIN:VCALENDAR
VERSION:2.0
PRODID:-//wp-events-plugin.com//7.2.3.1//EN
TZID:Europe/Berlin
X-WR-TIMEZONE:Europe/Berlin
BEGIN:VEVENT
UID:173@zwoenitzer-hsv.de
DTSTART;TZID=Europe/Berlin:20251216T160000
DTEND;TZID=Europe/Berlin:20251216T183000
DTSTAMP:20251215T042356Z
URL:https://www.zwoenitzer-hsv.de/termine/weihnachtstraining-abteilung-tae
 kwondo-hapkido/
SUMMARY:Weihnachtstraining Abteilung Taekwondo / Hapkido
DESCRIPTION:Wir starten gemeinsam bereits ab 16:00Uhr\nEnde ist fließend a
 b 18:30Uhr\n\nAnmeldung geschlossen\n\nBei Nachmeldungen bitte direkt mit 
 Anja kommunizieren.
ATTACH;FMTTYPE=image/jpeg:https://www.zwoenitzer-hsv.de/wp-content/uploads
 /2023/04/standard.jpg
CATEGORIES:Formenlauf,Hapkido,Taekwondo,Vollkontakt
END:VEVENT
BEGIN:VTIMEZONE
TZID:Europe/Berlin
X-LIC-LOCATION:Europe/Berlin
BEGIN:STANDARD
DTSTART:20251026T020000
TZOFFSETFROM:+0200
TZOFFSETTO:+0100
TZNAME:CET
END:STANDARD
END:VTIMEZONE
END:VCALENDAR